BEGIN:VCALENDAR
VERSION:2.0
PRODID:-//ChamberMaster//Event Calendar 2.0//EN
METHOD:PUBLISH
X-PUBLISHED-TTL:P3D
REFRESH-INTERVAL:P3D
CALSCALE:GREGORIAN
BEGIN:VEVENT
DTSTART:20220421T150000Z
DTEND:20220421T161500Z
X-MICROSOFT-CDO-ALLDAYEVENT:FALSE
SUMMARY:Global Negotiation Strategies
DESCRIPTION:In today's workplace\, professionals need to have the knowledge and tools necessary to conduct collaborative and competitive negotiations with global contexts. This webinar covers a wide range of techniques such as methods for influencing\, overcoming objections\, relationship building and negotiating across cultures. Tactics for preparing for a negotiation\, negotiation strategies and considerations for gender\, virtual negotiations and the use of Emotional Intelligence during negotiations is also addressed. Registration required.
X-ALT-DESC;FMTTYPE=text/html:In today&rsquo\;s workplace\, professionals need to have the knowledge and tools necessary to conduct collaborative and competitive negotiations with global contexts. This webinar covers a wide range of techniques such as methods for influencing\, overcoming objections\, relationship building and negotiating across cultures. Tactics for preparing for a negotiation\, negotiation strategies and considerations for gender\, virtual negotiations and the use of Emotional Intelligence during negotiations is also addressed. Registration required.
LOCATION:Online via Zoom.
UID:e.2066.4166
SEQUENCE:3
DTSTAMP:20260422T223756Z
URL:https://dev.chainolakeschamber.com/events/details/global-negotiation-strategies-4166
END:VEVENT

END:VCALENDAR
