BEGIN:VCALENDAR
VERSION:2.0
PRODID:-//ChamberMaster//Event Calendar 2.0//EN
METHOD:PUBLISH
X-PUBLISHED-TTL:P3D
REFRESH-INTERVAL:P3D
CALSCALE:GREGORIAN
BEGIN:VEVENT
DTSTART;VALUE=DATE:20221129
DTEND;VALUE=DATE:20221130
TRANSP:TRANSPARENT
X-MICROSOFT-CDO-ALLDAYEVENT:TRUE
SUMMARY:Giving Tuesday! Show our Chamber Members some love!
DESCRIPTION:There are many great non-profit organizations within our chamber for you to choose from on this Giving Tuesday!
X-ALT-DESC;FMTTYPE=text/html:There are many great non-profit organizations within our chamber for you to choose from on this Giving Tuesday!
LOCATION:
UID:e.2066.4888
SEQUENCE:3
DTSTAMP:20260422T091547Z
URL:https://dev.chainolakeschamber.com/events/details/giving-tuesday-show-our-chamber-members-some-love-4888
END:VEVENT

END:VCALENDAR
