BEGIN:VCALENDAR
VERSION:2.0
PRODID:-//ChamberMaster//Event Calendar 2.0//EN
METHOD:PUBLISH
X-PUBLISHED-TTL:P3D
REFRESH-INTERVAL:P3D
CALSCALE:GREGORIAN
BEGIN:VEVENT
DTSTART:20191203T060000Z
DTEND:20191203T180000Z
X-MICROSOFT-CDO-ALLDAYEVENT:FALSE
SUMMARY:Give back to McHenr4y County through United Way!
DESCRIPTION:Double your impact by giving to United Way of Greater McHenry County this Giving Tuesday\, December 3! Our sponsors: Associated Electrical Contractors\, LLC\, Aurora University Woodstock\, Corporate Disk Company and Service Printing Corporation will match your donation to $6\,000! Donate at givingbacktomchenry.org. All donations benefit McHenry County charities!
X-ALT-DESC;FMTTYPE=text/html:Double your impact by giving to United Way of Greater McHenry County this Giving Tuesday\, December 3! Our sponsors: Associated Electrical Contractors\, LLC\, Aurora University Woodstock\, Corporate Disk Company and Service Printing Corporation will match your donation to $6\,000! Donate at givingbacktomchenry.org. All donations benefit McHenry County charities!
LOCATION:givingbacktomchenry.org
UID:e.2066.3169
SEQUENCE:3
DTSTAMP:20260424T185948Z
URL:https://dev.chainolakeschamber.com/events/details/give-back-to-mchenr4y-county-through-united-way-3169
END:VEVENT

END:VCALENDAR
