BEGIN:VCALENDAR
VERSION:2.0
PRODID:-//ChamberMaster//Event Calendar 2.0//EN
METHOD:PUBLISH
X-PUBLISHED-TTL:P3D
REFRESH-INTERVAL:P3D
CALSCALE:GREGORIAN
BEGIN:VEVENT
DTSTART:20221025T170000Z
DTEND:20221025T180000Z
X-MICROSOFT-CDO-ALLDAYEVENT:FALSE
SUMMARY:Getting in Tune with Small Business Cybersecurity
DESCRIPTION:Is your business safe from cyber-attacks? Cyber-attacks are at an all-time high and every business is at risk. Are you doing the most to make sure your business is safe from malicious cyber-attacks? Any size business is vulnerable\, no-one is too small or too big.
X-ALT-DESC;FMTTYPE=text/html:Is your business safe from cyber-attacks? Cyber-attacks are at an all-time high and every business is at risk. Are you doing the most to make sure your business is safe from malicious cyber-attacks? Any size business is vulnerable\, no-one is too small or too big.
LOCATION:Live Zoom
UID:e.2066.4618
SEQUENCE:3
DTSTAMP:20260422T111358Z
URL:https://dev.chainolakeschamber.com/events/details/getting-in-tune-with-small-business-cybersecurity-4618
END:VEVENT

END:VCALENDAR
