BEGIN:VCALENDAR
VERSION:2.0
PRODID:-//ChamberMaster//Event Calendar 2.0//EN
METHOD:PUBLISH
X-PUBLISHED-TTL:P3D
REFRESH-INTERVAL:P3D
CALSCALE:GREGORIAN
BEGIN:VEVENT
DTSTART:20230330T150000Z
DTEND:20230330T180000Z
X-MICROSOFT-CDO-ALLDAYEVENT:FALSE
SUMMARY:Getting Excited about Science
DESCRIPTION:Come explore science! This workshop is a one hour class where children will be engaged\, do hands on experiments and have fun! Children in grades K-2 will be learning about static electricity\, light and color\, make mini lava lamps and more! Children in grades 3-5 will be exploring electric circuits\, electric motors\, Cartesian divers and flubber!
X-ALT-DESC;FMTTYPE=text/html:<span style="color: rgb(123\, 110\, 101)\; font-family: Arial\, Verdana\, Helvetica\, sans-serif\; font-size: 12px\;">Come explore science! This workshop is a one hour class where children will be engaged\, do hands on experiments and have fun! Children in grades K-2 will be learning about static electricity\, light and color\, make mini lava lamps and more! Children in grades 3-5 will be exploring electric circuits\, electric motors\, Cartesian divers and flubber!</span>
LOCATION:Nippersink Library 5418 Hill Road Richmond IL 60071
UID:e.2066.5041
SEQUENCE:3
DTSTAMP:20260419T203207Z
URL:https://dev.chainolakeschamber.com/events/details/getting-excited-about-science-5041
END:VEVENT

END:VCALENDAR
