BEGIN:VCALENDAR
VERSION:2.0
PRODID:-//ChamberMaster//Event Calendar 2.0//EN
METHOD:PUBLISH
X-PUBLISHED-TTL:P3D
REFRESH-INTERVAL:P3D
CALSCALE:GREGORIAN
BEGIN:VEVENT
DTSTART:20191010T230000Z
DTEND:20191011T003000Z
X-MICROSOFT-CDO-ALLDAYEVENT:FALSE
SUMMARY:Getting Business Referrals
DESCRIPTION:Referrals are one of the top ways to grow a business and your best source for new business is referrals from happy customers. The strongest sales leads are those that have been sent your way as a result of strong referrals. The key is to get satisfied customers to promote you and your business within their social and professional networks. This workshop shows you how to ask your customers for referrals and\, most importantly\, teach them how to send high value sales leads your way.
X-ALT-DESC;FMTTYPE=text/html:Referrals are one of the top ways to grow a business and your best source for new business is referrals from happy customers. The strongest sales leads are those that have been sent your way as a result of strong referrals. The key is to get satisfied customers to promote you and your business within their social and professional networks. This workshop shows you how to ask your customers for referrals and\, most importantly\, teach them how to send high value sales leads your way.
LOCATION:College of Lake County Grayslake Campus 19351 W Washington Street Grayslake\, IL 60030
UID:e.2066.2967
SEQUENCE:3
DTSTAMP:20260424T220327Z
URL:https://dev.chainolakeschamber.com/events/details/getting-business-referrals-2967
END:VEVENT

END:VCALENDAR
