BEGIN:VCALENDAR
VERSION:2.0
PRODID:-//ChamberMaster//Event Calendar 2.0//EN
METHOD:PUBLISH
X-PUBLISHED-TTL:P3D
REFRESH-INTERVAL:P3D
CALSCALE:GREGORIAN
BEGIN:VEVENT
DTSTART:20200219T000000Z
DTEND:20200219T013000Z
X-MICROSOFT-CDO-ALLDAYEVENT:FALSE
SUMMARY:Getting Business Referrals
DESCRIPTION:Referrals are one of the top ways to grow a business and your best source for new business is referrals from happy customers. The strongest sales leads are those that have been sent your way as a result of strong referrals. The key is to get satisfied customers to promote you and your business within their social and professional networks. This workshop shows you how to ask your customers for referrals and\, most importantly\, teach them how to send high value sales leads your way.
X-ALT-DESC;FMTTYPE=text/html:Referrals are one of the top ways to grow a business and your best source for new business is referrals from happy customers. The strongest sales leads are those that have been sent your way as a result of strong referrals. The key is to get satisfied customers to promote you and your business within their social and professional networks. This workshop shows you how to ask your customers for referrals and\, most importantly\, teach them how to send high value sales leads your way.
LOCATION:College of Lake County Grayslake Campus 19351 W Washington St. Grayslake\, IL 60030
UID:e.2066.3159
SEQUENCE:3
DTSTAMP:20260424T154900Z
URL:https://dev.chainolakeschamber.com/events/details/getting-business-referrals-02-18-2020-3159
END:VEVENT

END:VCALENDAR
