BEGIN:VCALENDAR
VERSION:2.0
PRODID:-//ChamberMaster//Event Calendar 2.0//EN
METHOD:PUBLISH
X-PUBLISHED-TTL:P3D
REFRESH-INTERVAL:P3D
CALSCALE:GREGORIAN
BEGIN:VEVENT
DTSTART:20200915T220000Z
DTEND:20200916T000000Z
X-MICROSOFT-CDO-ALLDAYEVENT:FALSE
SUMMARY:Gary Lang Auto Group Mixer- cancelled due to Covid
DESCRIPTION:Multi Chamber Mixer
X-ALT-DESC;FMTTYPE=text/html:Multi Chamber Mixer
LOCATION:cancelled due to Covid Gary Lang Auto Group Route 31 McHenry
UID:e.2066.3179
SEQUENCE:3
DTSTAMP:20260424T033121Z
URL:https://dev.chainolakeschamber.com/events/details/gary-lang-auto-group-mixer-cancelled-due-to-covid-3179
END:VEVENT

END:VCALENDAR
