BEGIN:VCALENDAR
VERSION:2.0
PRODID:-//ChamberMaster//Event Calendar 2.0//EN
METHOD:PUBLISH
X-PUBLISHED-TTL:P3D
REFRESH-INTERVAL:P3D
CALSCALE:GREGORIAN
BEGIN:VEVENT
DTSTART:20180522T220000Z
DTEND:20180523T000000Z
X-MICROSOFT-CDO-ALLDAYEVENT:FALSE
SUMMARY:Gary Lang Auto Group Mixer
DESCRIPTION:Multi Chamber Mixer
X-ALT-DESC;FMTTYPE=text/html:Multi Chamber Mixer
LOCATION:Gary Lang Auto Group Route 31 McHenry
UID:e.2066.583
SEQUENCE:3
DTSTAMP:20260426T012942Z
URL:https://dev.chainolakeschamber.com/events/details/gary-lang-auto-group-mixer-583
END:VEVENT

END:VCALENDAR
