BEGIN:VCALENDAR
VERSION:2.0
PRODID:-//ChamberMaster//Event Calendar 2.0//EN
METHOD:PUBLISH
X-PUBLISHED-TTL:P3D
REFRESH-INTERVAL:P3D
CALSCALE:GREGORIAN
BEGIN:VEVENT
DTSTART:20191013T160000Z
DTEND:20191013T190000Z
X-MICROSOFT-CDO-ALLDAYEVENT:FALSE
SUMMARY:Gary Lang Adopt Don't Shop Pet Adoption
DESCRIPTION:
X-ALT-DESC;FMTTYPE=text/html:
LOCATION:McBark Dog Park 2500 N Richmond Rd McHenry *Just north of Kohls
UID:e.2066.3148
SEQUENCE:3
DTSTAMP:20260424T220544Z
URL:https://dev.chainolakeschamber.com/events/details/gary-lang-adopt-don-t-shop-pet-adoption-3148
END:VEVENT

END:VCALENDAR
