BEGIN:VCALENDAR
VERSION:2.0
PRODID:-//ChamberMaster//Event Calendar 2.0//EN
METHOD:PUBLISH
X-PUBLISHED-TTL:P3D
REFRESH-INTERVAL:P3D
CALSCALE:GREGORIAN
BEGIN:VEVENT
DTSTART:20230824T213000Z
DTEND:20230825T003000Z
X-MICROSOFT-CDO-ALLDAYEVENT:FALSE
SUMMARY:Fundraiser for State Representative Tom Weber
DESCRIPTION:Join us at the Races!\n\nJoin State Representative Tom Weber and his wife\, Becki\, at Blarney Island.\n\nTom has been working hard and needs your support.\n\nPlease consider a donation to be an event sponsor.
X-ALT-DESC;FMTTYPE=text/html:Join us at the Races!<br />\nJoin State Representative Tom Weber and his wife\, Becki\, at Blarney Island.<br />\nTom has been working hard and needs your support.<br />\nPlease consider a donation to be an event sponsor.
LOCATION:Port of Blarney 27843 W. Grass Lake Rd Antioch IL 60002
UID:e.2066.5391
SEQUENCE:3
DTSTAMP:20260419T135110Z
URL:https://dev.chainolakeschamber.com/events/details/fundraiser-for-state-representative-tom-weber-5391
END:VEVENT

END:VCALENDAR
