BEGIN:VCALENDAR
VERSION:2.0
PRODID:-//ChamberMaster//Event Calendar 2.0//EN
METHOD:PUBLISH
X-PUBLISHED-TTL:P3D
REFRESH-INTERVAL:P3D
CALSCALE:GREGORIAN
BEGIN:VEVENT
DTSTART:20210504T140000Z
DTEND:20210504T160000Z
X-MICROSOFT-CDO-ALLDAYEVENT:FALSE
SUMMARY:From Chaos to Control: 5 Steps to Getting and Staying Organized
DESCRIPTION:Physical clutter often creates mental clutter. Disorganization can mean wasted time\, money\, energy and resources\, while unclean spaces and items increased risk of sickness or injury. Getting on top of it all doesn't have to be hard\, or costly. This course provides practical solutions to common problems\, based on a world-class and industry recognized process for continuous improvement in systems and set-ups.
X-ALT-DESC;FMTTYPE=text/html:Physical clutter often creates mental clutter. Disorganization can mean wasted time\, money\, energy and resources\, while unclean spaces and items increased risk of sickness or injury. Getting on top of it all doesn&#39\;t have to be hard\, or costly. This course provides practical solutions to common problems\, based on a world-class and industry recognized process for continuous improvement in systems and set-ups.
LOCATION:Live Zoom
UID:e.2066.3948
SEQUENCE:3
DTSTAMP:20260423T160319Z
URL:https://dev.chainolakeschamber.com/events/details/from-chaos-to-control-5-steps-to-getting-and-staying-organized-05-04-2021-3948
END:VEVENT

END:VCALENDAR
