BEGIN:VCALENDAR
VERSION:2.0
PRODID:-//ChamberMaster//Event Calendar 2.0//EN
METHOD:PUBLISH
X-PUBLISHED-TTL:P3D
REFRESH-INTERVAL:P3D
CALSCALE:GREGORIAN
BEGIN:VEVENT
DTSTART:20190301T210000Z
DTEND:20190302T010000Z
X-MICROSOFT-CDO-ALLDAYEVENT:FALSE
SUMMARY:Friendly Advice Ribbon Cutting
DESCRIPTION:Friendly Advice is opeining a practice in Spring Grove to offer Friendly Advice.
X-ALT-DESC;FMTTYPE=text/html:Friendly Advice is opeining a practice in Spring Grove to offer Friendly Advice.<br />\n&nbsp\;
LOCATION:Friendly Advice 2021 Main St Spring Grove IL
UID:e.2066.1957
SEQUENCE:3
DTSTAMP:20260425T102554Z
URL:https://dev.chainolakeschamber.com/events/details/friendly-advice-ribbon-cutting-1957
END:VEVENT

END:VCALENDAR
