BEGIN:VCALENDAR
VERSION:2.0
PRODID:-//ChamberMaster//Event Calendar 2.0//EN
METHOD:PUBLISH
X-PUBLISHED-TTL:P3D
REFRESH-INTERVAL:P3D
CALSCALE:GREGORIAN
BEGIN:VEVENT
DTSTART:20230623T230000Z
DTEND:20230624T020000Z
X-MICROSOFT-CDO-ALLDAYEVENT:FALSE
SUMMARY:Friday Night Fish Boil Fundraiser for Hatchery Park
DESCRIPTION:The Friday Night Fish Boil fundraiser at Horse Fair Park will be held Friday\, June 23! Live music by the Judson Brown Band from 6:00 p.m. to 9:00 p.m.\n\n \n\nWe will be serving all-you-can-eat boiled cod\, BBQ chicken & ribs and more prepared by Fitzgerald's Genoa Junction. Kid's meals available\, too. Purchase pre-sale express line tickets at the Village Hall until June 22nd. Food Served from 5:00 p.m. to 8:00 pm. Silent auctions are at 7p.m.\, 8p.m. and 9p.m. All proceeds benefit Hatchery Park.
X-ALT-DESC;FMTTYPE=text/html:<p style="margin: 0px\; padding: 0px\; color: rgb(123\, 110\, 101)\; font-family: Arial\, Verdana\, Helvetica\, sans-serif\; font-size: 12px\; background-color: rgb(255\, 255\, 255)\;">The Friday Night Fish Boil fundraiser at<span style="border: 0px\; font: inherit\; margin: 0px\; padding: 0px\; vertical-align: baseline\; color: rgb(41\, 75\, 147)\;">&nbsp\;</span><a data-auth="NotApplicable" data-linkindex="1" href="https://r20.rs6.net/tn.jsp?f=001ZmHas6dLkvn86eCalW-iHIYnx7Azcbkujq9mj8b_jtq45LDqAFEga6oNd0fUa_Fd8t63h7N4N35biAX4Ks7gbwiBASr6i4EK9UEkjNubHmgzkvmhgB8XU3eZMFlS7lpTfWarHIpXWN7uKZwQ9hkQce-nX5s7bIKzz1xqUi3r6hbJB9zORwjx6FpmNe1YAr8OAmXzbiezzHY2WI3IXuRuc7xoXH-U_mflcQ2pjt2xFjoGYCcbzGaY4auZ8hgQD4-I8YxC3PKmJi4epkmEfLDCwefy7Dwm83HVpfKnTjNDe6SNWPz9_lN2FIQM6awaHkz77_pwUMjFIIbFzin27yFjwL3xqXYj5urA9YYsx5nSEmVvf8w31SEnXdYQuaeEvsxzobQHY_mnmqw=&amp\;c=s66rRwYdgsf06KuyoKawTbFGaN_ARjz-Np3boZbnUB6Iu4q0BMkyOQ==&amp\;ch=USyjuFLYb53zuufbi5X4rfD1BS82lnlkiHI36cQo08vOqiKlLWrK9A==" rel="noopener noreferrer" style="border: 0px\; font-style: inherit\; font-variant: inherit\; font-stretch: inherit\; font-size: inherit\; line-height: inherit\; font-family: inherit\; font-optical-sizing: inherit\; font-kerning: inherit\; font-feature-settings: inherit\; font-variation-settings: inherit\; margin: 0px\; padding: 0px\; vertical-align: baseline\; color: rgb(41\, 75\, 147)\;" target="_blank">Horse Fair Park</a><span style="border: 0px\; font: inherit\; margin: 0px\; padding: 0px\; vertical-align: baseline\; color: rgb(125\, 103\, 169)\;">&nbsp\;</span>will be held Friday\, June 23! Live music by the Judson Brown Band from 6:00 p.m. to 9:00 p.m.</p>\n\n<p style="margin: 0px\; padding: 0px\; color: rgb(123\, 110\, 101)\; font-family: Arial\, Verdana\, Helvetica\, sans-serif\; font-size: 12px\; background-color: rgb(255\, 255\, 255)\;">&nbsp\;</p>\n\n<p style="margin: 0px\; padding: 0px\; color: rgb(123\, 110\, 101)\; font-family: Arial\, Verdana\, Helvetica\, sans-serif\; font-size: 12px\; background-color: rgb(255\, 255\, 255)\;">We will be serving all-you-can-eat boiled cod\, BBQ chicken &amp\; ribs and more prepared by&nbsp\;<a data-auth="NotApplicable" data-linkindex="2" href="https://r20.rs6.net/tn.jsp?f=0015SFNp5vkAGWgGlmoQFaFM8I4qDh8EMA--BnDoBo8We4NXvR08XWwWxmF1yRBldolAhMr6oA2-fGHFRG2IY0Q_RyzdTfkI-_4S9S1fwt7ZOQbnfpdMRGVUl0Z-sAynscwY0v6QMjykWUWPLa7JhwyCpCRsJgDQbTv&amp\;c=-MZkBE0x3TK-8FmVGhtby3GMhg_jp_djImvJfL8uIp4XoFk2D5TM-Q==&amp\;ch=IBI61H3J97v2uIoDLdlQNZt6mjB8nUWNBCI-zZCIhN4l_i9DJRVoJA==" rel="noopener noreferrer" style="font-family: inherit\; font-size: inherit\; border: 0px\; font-style: inherit\; font-variant: inherit\; font-stretch: inherit\; line-height: inherit\; font-optical-sizing: inherit\; font-kerning: inherit\; font-feature-settings: inherit\; font-variation-settings: inherit\; margin: 0px\; padding: 0px\; vertical-align: baseline\; color: rgb(41\, 75\, 147)\;" target="_blank">Fitzgerald&#39\;s Genoa Junction</a>. Kid&#39\;s meals available\, too. Purchase pre-sale express line tickets at the Village Hall until June 22nd.&nbsp\;Food Served from 5:00 p.m. to 8:00 pm. Silent auctions are at 7p.m.\, 8p.m. and 9p.m. All proceeds benefit Hatchery Park.</p>\n
LOCATION:Fitzgerald's Genoa Junction 727 Main Street (Hwy B) Genoa City\, WI 53128
UID:e.2066.5239
SEQUENCE:3
DTSTAMP:20260419T172038Z
URL:https://dev.chainolakeschamber.com/events/details/friday-night-fish-boil-fundraiser-for-hatchery-park-5239
END:VEVENT

END:VCALENDAR
