BEGIN:VCALENDAR
VERSION:2.0
PRODID:-//ChamberMaster//Event Calendar 2.0//EN
METHOD:PUBLISH
X-PUBLISHED-TTL:P3D
REFRESH-INTERVAL:P3D
CALSCALE:GREGORIAN
BEGIN:VEVENT
DTSTART:20210625T220000Z
DTEND:20210626T030000Z
X-MICROSOFT-CDO-ALLDAYEVENT:FALSE
SUMMARY:Friday Night Fish Boil
DESCRIPTION:Hatchery Park Benefit\n\n\n\nSilent Auction and Live Music
X-ALT-DESC;FMTTYPE=text/html:<span style="font-size:18px\;">Hatchery Park Benefit<br />\n<br />\nSilent Auction and Live Music </span>
LOCATION:Horse Fair Park Pavilion 8105 Blivin St Spring Grove IL
UID:e.2066.4061
SEQUENCE:3
DTSTAMP:20260423T125248Z
URL:https://dev.chainolakeschamber.com/events/details/friday-night-fish-boil-4061
END:VEVENT

END:VCALENDAR
