BEGIN:VCALENDAR
VERSION:2.0
PRODID:-//ChamberMaster//Event Calendar 2.0//EN
METHOD:PUBLISH
X-PUBLISHED-TTL:P3D
REFRESH-INTERVAL:P3D
CALSCALE:GREGORIAN
BEGIN:VEVENT
DTSTART:20221015T133000Z
DTEND:20221015T163000Z
X-MICROSOFT-CDO-ALLDAYEVENT:FALSE
SUMMARY:FREE Paper Shredding Event
DESCRIPTION:Bring all of your personal papers to Grant Township for a FREE paper shredding event with Representative Weber.
X-ALT-DESC;FMTTYPE=text/html:Bring all of your personal papers to Grant Township for a FREE paper shredding event with Representative Weber.
LOCATION:26725 W. Molidor Rd Ingleside IL 60041
UID:e.2066.4623
SEQUENCE:3
DTSTAMP:20260422T120516Z
URL:https://dev.chainolakeschamber.com/events/details/free-paper-shredding-event-4623
END:VEVENT

END:VCALENDAR
