BEGIN:VCALENDAR
VERSION:2.0
PRODID:-//ChamberMaster//Event Calendar 2.0//EN
METHOD:PUBLISH
X-PUBLISHED-TTL:P3D
REFRESH-INTERVAL:P3D
CALSCALE:GREGORIAN
BEGIN:VEVENT
DTSTART:20221203T160000Z
DTEND:20221203T180000Z
X-MICROSOFT-CDO-ALLDAYEVENT:FALSE
SUMMARY:FREE Holiday Movie
DESCRIPTION:FREE Holiday Movie! The Christmas Chronicles2\n\nSponsored by the Fox Lake Lions Club and American Legion Auxiliary Unit 703
X-ALT-DESC;FMTTYPE=text/html:FREE Holiday Movie! <em>The Christmas Chronicles2</em><br />\nSponsored by the Fox Lake Lions Club and American Legion Auxiliary Unit 703
LOCATION:Classic Cinemas 115 Center St. Fox Lake\, IL 60020
UID:e.2066.4897
SEQUENCE:3
DTSTAMP:20260420T021401Z
URL:https://dev.chainolakeschamber.com/events/details/free-holiday-movie-4897
END:VEVENT

END:VCALENDAR
