BEGIN:VCALENDAR
VERSION:2.0
PRODID:-//ChamberMaster//Event Calendar 2.0//EN
METHOD:PUBLISH
X-PUBLISHED-TTL:P3D
REFRESH-INTERVAL:P3D
CALSCALE:GREGORIAN
BEGIN:VEVENT
DTSTART:20210918T130000Z
DTEND:20210918T180000Z
X-MICROSOFT-CDO-ALLDAYEVENT:FALSE
SUMMARY:Free Dental Day
DESCRIPTION:Come in to Fox Lake Dental Care for a free cleaning or one free tooth extraction (patients are accepted on a first come first served basis)
X-ALT-DESC;FMTTYPE=text/html:Come in to Fox Lake Dental Care for a free cleaning or one free tooth extraction (patients are accepted on a first come first served basis)
LOCATION:Fox Lake Dental Care 1402 Us HWY 12 Fox Lake\, IL 60020 (We are located across from the Fox Lake Menards!)
UID:e.2066.4067
SEQUENCE:3
DTSTAMP:20260423T082955Z
URL:https://dev.chainolakeschamber.com/events/details/free-dental-day-4067
END:VEVENT

END:VCALENDAR
