BEGIN:VCALENDAR
VERSION:2.0
PRODID:-//ChamberMaster//Event Calendar 2.0//EN
METHOD:PUBLISH
X-PUBLISHED-TTL:P3D
REFRESH-INTERVAL:P3D
CALSCALE:GREGORIAN
BEGIN:VEVENT
DTSTART:20191204T160000Z
DTEND:20191205T050000Z
X-MICROSOFT-CDO-ALLDAYEVENT:FALSE
SUMMARY:FREE Christmas Concert by the RBCHS Concert Choirs
DESCRIPTION:Richmond Burton Community High School Concert Choir is presenting a free Christmas Concert to get you into the Christmas spirit!
X-ALT-DESC;FMTTYPE=text/html:Richmond Burton Community High School Concert Choir is presenting a free Christmas Concert to get you into the Christmas spirit!
LOCATION:Community Church of Richmond (corner of Broadway and West St.)
UID:e.2066.3156
SEQUENCE:3
DTSTAMP:20260424T190122Z
URL:https://dev.chainolakeschamber.com/events/details/free-christmas-concert-by-the-rbchs-concert-choirs-3156
END:VEVENT

END:VCALENDAR
