BEGIN:VCALENDAR
VERSION:2.0
PRODID:-//ChamberMaster//Event Calendar 2.0//EN
METHOD:PUBLISH
X-PUBLISHED-TTL:P3D
REFRESH-INTERVAL:P3D
CALSCALE:GREGORIAN
BEGIN:VEVENT
DTSTART:20230812T130000Z
DTEND:20230812T190000Z
X-MICROSOFT-CDO-ALLDAYEVENT:FALSE
SUMMARY:Fox Lake Youth Fishing Derby & Cardboard Boat Race
DESCRIPTION:Fox Lake Youth Fishing Derby\n\nFishing Contest - Snacks - Drinks - Giveaways\n\nParticipants under 16 do not need a license.\n\nPlease bring your own fishing poles.\n\n\n\nCardboard Boat Race\n\n$15 Boat Registration - includes boat race and trophies.\n\n$30 Boat Reistration & Building Kit - includes registration\, trophies\, 1 roll of duct tape\, box cutter\, and 8x4 ft cardboard.\n\nAge groups: 11 and under / 12-18 / 19 and up\n\nOn-site registration will be available
X-ALT-DESC;FMTTYPE=text/html:<strong>Fox Lake Youth Fishing Derby</strong><br />\nFishing Contest - Snacks - Drinks - Giveaways<br />\nParticipants under 16 do not need a license.<br />\nPlease bring your own fishing poles.<br />\n<br />\n<strong>Cardboard Boat Race</strong><br />\n$15 Boat Registration - includes boat race and trophies.<br />\n$30 Boat Reistration &amp\; Building Kit - includes registration\, trophies\, 1 roll of duct tape\, box cutter\, and 8x4 ft cardboard.<br />\nAge groups: 11 and under / 12-18 / 19 and up<br />\nOn-site registration will be available&nbsp\;&nbsp\;&nbsp\;&nbsp\;
LOCATION:Lakefront Park Building 71 Nippersink Blvd Fox Lake\, IL 60020
UID:e.2066.5298
SEQUENCE:3
DTSTAMP:20260419T123121Z
URL:https://dev.chainolakeschamber.com/events/details/fox-lake-youth-fishing-derby-cardboard-boat-race-5298
END:VEVENT

END:VCALENDAR
