BEGIN:VCALENDAR
VERSION:2.0
PRODID:-//ChamberMaster//Event Calendar 2.0//EN
METHOD:PUBLISH
X-PUBLISHED-TTL:P3D
REFRESH-INTERVAL:P3D
CALSCALE:GREGORIAN
BEGIN:VEVENT
DTSTART:20191005T170000Z
DTEND:20191005T210000Z
X-MICROSOFT-CDO-ALLDAYEVENT:FALSE
SUMMARY:Fox Lake Wine Walk 2019
DESCRIPTION:Explore. Shop. Sip\n\nEnjoy stopping at featured business locations to indulge your palette among the fabulous wines paired with light bites. \n\n\n\nMUST be over 21
X-ALT-DESC;FMTTYPE=text/html:<span style="font-size:20px\;"><strong>Explore. Shop. Sip</strong></span><br />\n<span style="font-size:16px\;"><span style="font-family:tahoma\;">Enjoy stopping at featured business locations to indulge your palette among the fabulous wines paired with light bites. </span></span><br />\n<br />\nMUST be over 21<br />\n&nbsp\;
LOCATION:Check in between NOON -2 17 Towne Centre - Plaza (between the movie theater and Val's grocery store) We will check ID's and give you an etched souvenir glass\, a map of all the stops and a coupon for a free bonus bottle of wine. When you have completed your experience\, return to the check in location for ONE more tasting\, and there you will pick the bonus bottle.
UID:e.2066.2987
SEQUENCE:3
DTSTAMP:20260424T233241Z
URL:https://dev.chainolakeschamber.com/events/details/fox-lake-wine-walk-2019-2987
END:VEVENT

END:VCALENDAR
