BEGIN:VCALENDAR
VERSION:2.0
PRODID:-//ChamberMaster//Event Calendar 2.0//EN
METHOD:PUBLISH
X-PUBLISHED-TTL:P3D
REFRESH-INTERVAL:P3D
CALSCALE:GREGORIAN
BEGIN:VEVENT
DTSTART;VALUE=DATE:20230611
DTEND;VALUE=DATE:20230612
TRANSP:TRANSPARENT
X-MICROSOFT-CDO-ALLDAYEVENT:TRUE
SUMMARY:Fox Lake Triathlon
DESCRIPTION:The 6th Annual Fox Lake Triathlon is back for 2023!!\n\nAs of Monday\, April 24 - Lakefront Park\, 77 Nippersink Blvd. will the be the staging site for this years' race.\n\nSwim in Nippersink Lake with a half mile triangle course - 2 inflatable duck turns and a swan finish. The 12 mile bike route has a few rollers and some straight shots to get up some speed. The 3.1 mile run is an out and back course with over 2 miles on a paved bike path.\n\nParking within 2 blocks of transition. Finish line within steps of transition. Great spectator event in and around the course.\n\nTypically wetsuit legal\, no draft bike\, and flat and fast run.\n\nThis years swag for all registered participants (guaranteed size until May 12)
X-ALT-DESC;FMTTYPE=text/html:<p style="box-sizing: border-box\; margin: 0px 0px 10px\; color: rgb(45\, 45\, 51)\; font-family: &quot\;Open Sans&quot\;\, &quot\;Noto Sans JP&quot\;\, sans-serif\; font-size: 14px\; text-align: center\;"><span style="box-sizing: border-box\; font-size: 24px\;">The 6th Annual Fox Lake Triathlon is back for 2023!!</span></p>\n\n<p style="box-sizing: border-box\; margin: 0px 0px 10px\; color: rgb(45\, 45\, 51)\; font-family: &quot\;Open Sans&quot\;\, &quot\;Noto Sans JP&quot\;\, sans-serif\; font-size: 14px\; text-align: center\;"><span style="box-sizing: border-box\; font-size: 18px\; color: rgb(226\, 80\, 65)\;">As of Monday\, April 24 - Lakefront Park\, 77 Nippersink Blvd. will the be the staging site for this years&#39\; race.</span></p>\n\n<p style="box-sizing: border-box\; margin: 0px 0px 10px\; color: rgb(45\, 45\, 51)\; font-family: &quot\;Open Sans&quot\;\, &quot\;Noto Sans JP&quot\;\, sans-serif\; font-size: 14px\; text-align: center\;"><span style="box-sizing: border-box\; font-size: 18px\;">Swim in Nippersink Lake with a half mile triangle course - 2 inflatable duck turns and a swan finish. The 12 mile bike route has a few rollers and some straight shots to get up some speed. The 3.1 mile run is an out and back course with over 2 miles on a paved bike path.</span></p>\n\n<p style="box-sizing: border-box\; margin: 0px 0px 10px\; color: rgb(45\, 45\, 51)\; font-family: &quot\;Open Sans&quot\;\, &quot\;Noto Sans JP&quot\;\, sans-serif\; font-size: 14px\; text-align: center\;"><span style="box-sizing: border-box\; font-size: 18px\;">Parking within 2 blocks of transition. Finish line within steps of transition. Great spectator event in and around the course.</span></p>\n\n<p style="box-sizing: border-box\; margin: 0px 0px 10px\; color: rgb(45\, 45\, 51)\; font-family: &quot\;Open Sans&quot\;\, &quot\;Noto Sans JP&quot\;\, sans-serif\; font-size: 14px\; text-align: center\;"><span style="box-sizing: border-box\; font-size: 18px\;">Typically wetsuit legal\, no draft bike\, and flat and fast run.</span></p>\n\n<p style="box-sizing: border-box\; margin: 0px 0px 10px\; color: rgb(45\, 45\, 51)\; font-family: &quot\;Open Sans&quot\;\, &quot\;Noto Sans JP&quot\;\, sans-serif\; font-size: 14px\; text-align: center\;">This years swag for all registered participants (guaranteed size until May 12)</p>\n
LOCATION:Lakefront Park\, 77 Nippersink Blvd
UID:e.2066.5156
SEQUENCE:3
DTSTAMP:20260419T171323Z
URL:https://dev.chainolakeschamber.com/events/details/fox-lake-triathlon-5156
END:VEVENT

END:VCALENDAR
