BEGIN:VCALENDAR
VERSION:2.0
PRODID:-//ChamberMaster//Event Calendar 2.0//EN
METHOD:PUBLISH
X-PUBLISHED-TTL:P3D
REFRESH-INTERVAL:P3D
CALSCALE:GREGORIAN
BEGIN:VEVENT
DTSTART:20200126T000000Z
DTEND:20200126T040000Z
X-MICROSOFT-CDO-ALLDAYEVENT:FALSE
SUMMARY:Fox Lake - Round Lake Rotary Club Chili Cook Off
DESCRIPTION:14 th Annual Chili Cook-off
X-ALT-DESC;FMTTYPE=text/html:14 th Annual Chili Cook-off<br />\n<br />\n&nbsp\;
LOCATION:American Legion Post 703 703 N. US Hwy 12 Fox Lake\, IL
UID:e.2066.3184
SEQUENCE:3
DTSTAMP:20260424T172219Z
URL:https://dev.chainolakeschamber.com/events/details/fox-lake-round-lake-rotary-club-chili-cook-off-3184
END:VEVENT

END:VCALENDAR
