BEGIN:VCALENDAR
VERSION:2.0
PRODID:-//ChamberMaster//Event Calendar 2.0//EN
METHOD:PUBLISH
X-PUBLISHED-TTL:P3D
REFRESH-INTERVAL:P3D
CALSCALE:GREGORIAN
BEGIN:VEVENT
DTSTART:20190127T000000Z
DTEND:20190127T040000Z
X-MICROSOFT-CDO-ALLDAYEVENT:FALSE
SUMMARY:Fox Lake - Round Lake Rotary Club Chili Cook Off
DESCRIPTION:13 th Annual Chili Cook-off\n\n\n\n6 PM
X-ALT-DESC;FMTTYPE=text/html:13 th Annual Chili Cook-off<br />\n<br />\n6 PM
LOCATION:American Legion Post 703 703 N. US Hwy 12 Fox Lake\, IL
UID:e.2066.2188
SEQUENCE:3
DTSTAMP:20260425T120019Z
URL:https://dev.chainolakeschamber.com/events/details/fox-lake-round-lake-rotary-club-chili-cook-off-2188
END:VEVENT

END:VCALENDAR
