BEGIN:VCALENDAR
VERSION:2.0
PRODID:-//ChamberMaster//Event Calendar 2.0//EN
METHOD:PUBLISH
X-PUBLISHED-TTL:P3D
REFRESH-INTERVAL:P3D
CALSCALE:GREGORIAN
BEGIN:VEVENT
DTSTART;VALUE=DATE:20221204
DTEND;VALUE=DATE:20221205
TRANSP:TRANSPARENT
X-MICROSOFT-CDO-ALLDAYEVENT:TRUE
SUMMARY:Fox Lake-Round Lake Area Rotary Club's Children Holiday Party
DESCRIPTION:As you know\, hundreds of underprivileged children in grades K-5 from round Lake\, Ingleside\, and Grass Lake areas will be invited to attend this very special event. Children who attend are provided with clothing\, toys and a holiday stocking filled with personal items from the Rotary. They also receive a wonderful luncheon\, entertainment that will include singing and face-painting\, then an amazing visit from Santa\, Mrs. Claus and their elves!\n\n\n\nPlease support this event by making a donation. Through these donations\, the Rotary can continue to give children hope and happiness during this magical season
X-ALT-DESC;FMTTYPE=text/html:As you know\, hundreds of underprivileged children in grades K-5 from round Lake\, Ingleside\, and Grass Lake areas will be invited to attend this very special event. Children who attend are provided with clothing\, toys and a holiday stocking filled with personal items from the Rotary. They also receive a wonderful luncheon\, entertainment that will include singing and face-painting\, then an amazing visit from Santa\, Mrs. Claus and their elves!<br />\n<br />\nPlease support this event by making a donation. Through these donations\, the Rotary can continue to give children hope and happiness during this magical season&nbsp\;
LOCATION:Make payments to: Venmo: FoxLakeRoundLakeRotary Check: Fox Lake-Round Lake Rotary Club PO Box 363 Fox Lake\, IL 60020-0363
UID:e.2066.4887
SEQUENCE:3
DTSTAMP:20260420T022011Z
URL:https://dev.chainolakeschamber.com/events/details/fox-lake-round-lake-area-rotary-club-s-children-holiday-party-4887
END:VEVENT

END:VCALENDAR
