BEGIN:VCALENDAR
VERSION:2.0
PRODID:-//ChamberMaster//Event Calendar 2.0//EN
METHOD:PUBLISH
X-PUBLISHED-TTL:P3D
REFRESH-INTERVAL:P3D
CALSCALE:GREGORIAN
BEGIN:VEVENT
DTSTART:20221008T200000Z
DTEND:20221009T000000Z
X-MICROSOFT-CDO-ALLDAYEVENT:FALSE
SUMMARY:Fox Lake Pumpkin Jubilee
DESCRIPTION:The Village of Fox Lake is inviting you to their PUMPKIN JUBILEE\n\n\n\nAll the Fall fun you could want! Pumpkin carvings\, magic shows\, food vendors and doughnut eating contest!
X-ALT-DESC;FMTTYPE=text/html:The Village of Fox Lake is inviting you to their PUMPKIN JUBILEE<br />\n<br />\nAll the Fall fun you could want! Pumpkin carvings\, magic shows\, food vendors and doughnut eating contest!
LOCATION:17 E. School St. Fox Lake\, IL 60020
UID:e.2066.4640
SEQUENCE:3
DTSTAMP:20260422T120620Z
URL:https://dev.chainolakeschamber.com/events/details/fox-lake-pumpkin-jubilee-4640
END:VEVENT

END:VCALENDAR
