BEGIN:VCALENDAR
VERSION:2.0
PRODID:-//ChamberMaster//Event Calendar 2.0//EN
METHOD:PUBLISH
X-PUBLISHED-TTL:P3D
REFRESH-INTERVAL:P3D
CALSCALE:GREGORIAN
BEGIN:VEVENT
DTSTART:20230226T180000Z
DTEND:20230226T200000Z
X-MICROSOFT-CDO-ALLDAYEVENT:FALSE
SUMMARY:Fox Lake Polar Plunge
DESCRIPTION:Be Cool! Take the Plunge!\n\n\n\nLaw Enforcement Torch Run Polar Plunge for Special Olympics Illinois
X-ALT-DESC;FMTTYPE=text/html:Be Cool! Take the Plunge!<br />\n<br />\nLaw Enforcement Torch Run Polar Plunge for Special Olympics Illinois
LOCATION:Nippersink Lake Fox Lake
UID:e.2066.4964
SEQUENCE:3
DTSTAMP:20260420T001804Z
URL:https://dev.chainolakeschamber.com/events/details/fox-lake-polar-plunge-4964
END:VEVENT

END:VCALENDAR
