BEGIN:VCALENDAR
VERSION:2.0
PRODID:-//ChamberMaster//Event Calendar 2.0//EN
METHOD:PUBLISH
X-PUBLISHED-TTL:P3D
REFRESH-INTERVAL:P3D
CALSCALE:GREGORIAN
BEGIN:VEVENT
DTSTART:20230916T140000Z
DTEND:20230916T170000Z
X-MICROSOFT-CDO-ALLDAYEVENT:FALSE
SUMMARY:Fox Lake Pet Walk
DESCRIPTION:Gather up your four-legged friends and join us Saturday\, September 16 at 9:00 AM for a stroll through Grant Woods Forest Preserve! A Go Fox Lake Pet Walk is an opportunity for you and your pet to get some fresh air\, explore the forest\, and enjoy the beauty of nature!\n\nPets must be leashed
X-ALT-DESC;FMTTYPE=text/html:<span style="color: rgb(5\, 5\, 5)\; font-family: &quot\;Segoe UI Historic&quot\;\, &quot\;Segoe UI&quot\;\, Helvetica\, Arial\, sans-serif\; font-size: 15px\;">Gather up your four-legged friends and join us Saturday\, September 16 at 9:00 AM for a stroll through Grant Woods Forest Preserve! A Go Fox Lake Pet Walk is an opportunity for you and your pet to get some fresh air\, explore the forest\, and enjoy the beauty of nature!<br />\nPets must be leashed</span>
LOCATION:Grant Woods Forest Preserve 25405 W. Monaville Rd Ingleside IL 60041
UID:e.2066.5412
SEQUENCE:3
DTSTAMP:20260419T153145Z
URL:https://dev.chainolakeschamber.com/events/details/fox-lake-pet-walk-5412
END:VEVENT

END:VCALENDAR
