BEGIN:VCALENDAR
VERSION:2.0
PRODID:-//ChamberMaster//Event Calendar 2.0//EN
METHOD:PUBLISH
X-PUBLISHED-TTL:P3D
REFRESH-INTERVAL:P3D
CALSCALE:GREGORIAN
BEGIN:VEVENT
DTSTART:20230811T210000Z
DTEND:20230812T010000Z
X-MICROSOFT-CDO-ALLDAYEVENT:FALSE
SUMMARY:Fox Lake Mayor's Fish Fry
DESCRIPTION:Join us for the Mayor's Fish Fry!\n\nDinner includes all-you-can-eat fish\, two sides\, and a drink.\n\nNo reservations are required.\n\nEntertainment: Sounds of Soul by David Mehner
X-ALT-DESC;FMTTYPE=text/html:Join us for the Mayor&#39\;s Fish Fry!<br />\nDinner includes all-you-can-eat fish\, two sides\, and a drink.<br />\nNo reservations are required.<br />\nEntertainment: Sounds of Soul by David Mehner
LOCATION:Lakefront Park Building 71 Nippersink Blvd Fox Lake IL 60020
UID:e.2066.5297
SEQUENCE:3
DTSTAMP:20260419T121303Z
URL:https://dev.chainolakeschamber.com/events/details/fox-lake-mayor-s-fish-fry-5297
END:VEVENT

END:VCALENDAR
