BEGIN:VCALENDAR
VERSION:2.0
PRODID:-//ChamberMaster//Event Calendar 2.0//EN
METHOD:PUBLISH
X-PUBLISHED-TTL:P3D
REFRESH-INTERVAL:P3D
CALSCALE:GREGORIAN
BEGIN:VEVENT
DTSTART:20221006T000000Z
DTEND:20221006T020000Z
X-MICROSOFT-CDO-ALLDAYEVENT:FALSE
SUMMARY:Fox Lake Library District Outdoor Movie Night
DESCRIPTION:The Village of Fox Lake Parks & Recreation & Fox Lake District Library Presents Outdoor Movie Nights!\nWednesdays at 7pm in the library parking lot\n\n \n\nBring a lawn chair\, blanket\, and snacks!\n\n \n\nOctober 5: Luca
X-ALT-DESC;FMTTYPE=text/html:<span style="color: rgb(51\, 51\, 51)\; font-family: Lato\, &quot\;Helvetica Neue&quot\;\, Helvetica\, sans-serif\; font-size: 18px\; background-color: rgb(255\, 255\, 255)\;">The Village of Fox Lake Parks &amp\; Recreation &amp\; Fox Lake District Library Presents Outdoor Movie Nights!</span>\n<div style="box-sizing: border-box\; color: rgb(51\, 51\, 51)\; font-family: Lato\, &quot\;Helvetica Neue&quot\;\, Helvetica\, sans-serif\; font-size: 18px\; background-color: rgb(255\, 255\, 255)\;">Wednesdays at 7pm in the library parking lot</div>\n\n<div style="box-sizing: border-box\; color: rgb(51\, 51\, 51)\; font-family: Lato\, &quot\;Helvetica Neue&quot\;\, Helvetica\, sans-serif\; font-size: 18px\; background-color: rgb(255\, 255\, 255)\;">&nbsp\;</div>\n\n<div style="box-sizing: border-box\; color: rgb(51\, 51\, 51)\; font-family: Lato\, &quot\;Helvetica Neue&quot\;\, Helvetica\, sans-serif\; font-size: 18px\; background-color: rgb(255\, 255\, 255)\;">Bring a lawn chair\, blanket\, and snacks!</div>\n\n<div style="box-sizing: border-box\; color: rgb(51\, 51\, 51)\; font-family: Lato\, &quot\;Helvetica Neue&quot\;\, Helvetica\, sans-serif\; font-size: 18px\; background-color: rgb(255\, 255\, 255)\;">&nbsp\;</div>\n\n<div style="box-sizing: border-box\; color: rgb(51\, 51\, 51)\; font-family: Lato\, &quot\;Helvetica Neue&quot\;\, Helvetica\, sans-serif\; font-size: 18px\; background-color: rgb(255\, 255\, 255)\;">October 5: Luca</div>\n
LOCATION:FOX LAKE DISTRICT LIBRARY 255 East Grand Avenue Fox Lake\, IL 60020
UID:e.2066.4609
SEQUENCE:3
DTSTAMP:20260422T105737Z
URL:https://dev.chainolakeschamber.com/events/details/fox-lake-library-district-outdoor-movie-night-4609
END:VEVENT

END:VCALENDAR
