BEGIN:VCALENDAR
VERSION:2.0
PRODID:-//ChamberMaster//Event Calendar 2.0//EN
METHOD:PUBLISH
X-PUBLISHED-TTL:P3D
REFRESH-INTERVAL:P3D
CALSCALE:GREGORIAN
BEGIN:VEVENT
DTSTART:20220915T000000Z
DTEND:20220915T020000Z
X-MICROSOFT-CDO-ALLDAYEVENT:FALSE
SUMMARY:Fox Lake Library District Outdoor Movie Night
DESCRIPTION:The Village of Fox Lake Parks & Recreation & Fox Lake District Library Presents Outdoor Movie Nights!\nWednesdays at 7pm in the library parking lot\n\n \n\nBring a lawn chair\, blanket\, and snacks!\n\nSeptember 14: Clifford the Big Red Dog\n\n \n\nFor more information contact the Children's Library (847) 587-0198 or the Village of Fox lake Parks & Recreation Department (224) 225-1404.
X-ALT-DESC;FMTTYPE=text/html:<span style="color: rgb(51\, 51\, 51)\; font-family: Lato\, &quot\;Helvetica Neue&quot\;\, Helvetica\, sans-serif\; font-size: 18px\; background-color: rgb(255\, 255\, 255)\;">The Village of Fox Lake Parks &amp\; Recreation &amp\; Fox Lake District Library Presents Outdoor Movie Nights!</span>\n<div style="box-sizing: border-box\; color: rgb(51\, 51\, 51)\; font-family: Lato\, &quot\;Helvetica Neue&quot\;\, Helvetica\, sans-serif\; font-size: 18px\; background-color: rgb(255\, 255\, 255)\;">Wednesdays at 7pm in the library parking lot</div>\n\n<div style="box-sizing: border-box\; color: rgb(51\, 51\, 51)\; font-family: Lato\, &quot\;Helvetica Neue&quot\;\, Helvetica\, sans-serif\; font-size: 18px\; background-color: rgb(255\, 255\, 255)\;">&nbsp\;</div>\n\n<div style="box-sizing: border-box\; color: rgb(51\, 51\, 51)\; font-family: Lato\, &quot\;Helvetica Neue&quot\;\, Helvetica\, sans-serif\; font-size: 18px\; background-color: rgb(255\, 255\, 255)\;">Bring a lawn chair\, blanket\, and snacks!</div>\n\n<div style="box-sizing: border-box\; color: rgb(51\, 51\, 51)\; font-family: Lato\, &quot\;Helvetica Neue&quot\;\, Helvetica\, sans-serif\; font-size: 18px\; background-color: rgb(255\, 255\, 255)\;">September 14:&nbsp\;<i style="box-sizing: border-box\;">Clifford the Big Red Dog</i><br />\n&nbsp\;</div>\n\n<div style="box-sizing: border-box\; color: rgb(51\, 51\, 51)\; font-family: Lato\, &quot\;Helvetica Neue&quot\;\, Helvetica\, sans-serif\; font-size: 18px\; background-color: rgb(255\, 255\, 255)\;"><i style="box-sizing: border-box\;">For more information contact the Children&#39\;s Library (847) 587-0198 or the Village of Fox lake Parks &amp\; Recreation Department&nbsp\;<span style="box-sizing: border-box\; text-align: center\;">(224) 225-1404.</span></i></div>\n
LOCATION:FOX LAKE DISTRICT LIBRARY 255 East Grand Avenue Fox Lake\, IL 60020
UID:e.2066.4605
SEQUENCE:3
DTSTAMP:20260422T122821Z
URL:https://dev.chainolakeschamber.com/events/details/fox-lake-library-district-outdoor-movie-night-4605
END:VEVENT

END:VCALENDAR
