BEGIN:VCALENDAR
VERSION:2.0
PRODID:-//ChamberMaster//Event Calendar 2.0//EN
METHOD:PUBLISH
X-PUBLISHED-TTL:P3D
REFRESH-INTERVAL:P3D
CALSCALE:GREGORIAN
BEGIN:VEVENT
DTSTART:20190714T160000Z
DTEND:20190714T210000Z
X-MICROSOFT-CDO-ALLDAYEVENT:FALSE
SUMMARY:Fox Lake Bloody Mary Fest
DESCRIPTION:Visit Fox Lake\, Illinois for the best Bloody Mary's the region has to offer. You've had one while on the Chain\, now stop in downtown Fox Lake for a festival dedicated to the finest Bloody Mary's Fox Lake has to offer. The event will consist of live music\, food\, and several participating taverns/bars. Each attendee will be able to sample a variety of Bloody Mary's and vote for their favorite! This event is 21+ Children\, babies\, and pets are not allowed at this event
X-ALT-DESC;FMTTYPE=text/html:<span itemscope="" itemtype="http://schema.org/Event">Visit Fox Lake\, Illinois for the best Bloody Mary&#39\;s the region has to offer. You&#39\;ve had one while on the Chain\, now stop in downtown Fox Lake for a festival dedicated to the finest Bloody Mary&#39\;s Fox Lake has to offer. The event will consist of live music\, food\, and several participating taverns/bars. Each attendee will be able to sample a variety of Bloody Mary&#39\;s and vote for their favorite! This event is 21+ Children\, babies\, and pets are not allowed at this event</span>
LOCATION:Downtown Fox Lake on Grand Avenue
UID:e.2066.2979
SEQUENCE:3
DTSTAMP:20260425T022535Z
URL:https://dev.chainolakeschamber.com/events/details/fox-lake-bloody-mary-fest-2979
END:VEVENT

END:VCALENDAR
