BEGIN:VCALENDAR
VERSION:2.0
PRODID:-//ChamberMaster//Event Calendar 2.0//EN
METHOD:PUBLISH
X-PUBLISHED-TTL:P3D
REFRESH-INTERVAL:P3D
CALSCALE:GREGORIAN
BEGIN:VEVENT
DTSTART:20230723T170000Z
DTEND:20230723T200000Z
X-MICROSOFT-CDO-ALLDAYEVENT:FALSE
SUMMARY:Fox Lake Bingo!
DESCRIPTION:We are excited to announce a fun-filled afternoon of Bingo for a cause! Promote Fox Lake has partnered with the Fox Lake Volunteer Fire Department to raise funds to support our community. The proceeds from this event will directly contribute towards Promote Fox Lake's ongoing initiatives as well as the Fire Department's mission to fund a new roof for their building.
X-ALT-DESC;FMTTYPE=text/html:<span style="color: rgb(20\, 24\, 39)\; font-family: &quot\;Helvetica Neue&quot\;\, Helvetica\, -apple-system\, BlinkMacSystemFont\, Roboto\, Arial\, sans-serif\; font-size: 18px\;">We are excited to announce a fun-filled afternoon of Bingo for a cause! Promote Fox Lake has partnered with the Fox Lake Volunteer Fire Department to raise funds to support our community. The proceeds from this event will directly contribute towards Promote Fox Lake&rsquo\;s ongoing initiatives as well as the Fire Department&rsquo\;s mission to fund a new roof for their building.</span>
LOCATION:Fox Lake Volunteer Fire Department 114 Washington St. Ingleside\, IL 60041
UID:e.2066.5320
SEQUENCE:3
DTSTAMP:20260419T135103Z
URL:https://dev.chainolakeschamber.com/events/details/fox-lake-bingo-5320
END:VEVENT

END:VCALENDAR
