BEGIN:VCALENDAR
VERSION:2.0
PRODID:-//ChamberMaster//Event Calendar 2.0//EN
METHOD:PUBLISH
X-PUBLISHED-TTL:P3D
REFRESH-INTERVAL:P3D
CALSCALE:GREGORIAN
BEGIN:VEVENT
DTSTART:20220924T150000Z
DTEND:20220924T180000Z
X-MICROSOFT-CDO-ALLDAYEVENT:FALSE
SUMMARY:Fourth Annual River Ridge Church Golf Outing
DESCRIPTION:On Saturday\, September 24th\, 2022\, we will host our fourth annual golf outing at Fox Lake Country Club in Fox Lake\, IL. We will once again partner with Dixon Golf  who will manage our contests\, provide prizes\, and handle registration\, online scoring\, and pairing! The event will be a four-person scramble.\n\nThe putting contest starts at 10 and we will have a shotgun start at 11 am. The outing is limited to 72 golfers\, so we encourage you to REGISTER EARLY!\n\nPlease go to THIS PAGE for registration and information.
X-ALT-DESC;FMTTYPE=text/html:<p><span style="font-size:14px">On Saturday\, September 24th\, 2022\, we will host our fourth annual golf outing at&nbsp\;Fox Lake Country Club in Fox Lake\, IL. We will once again partner with Dixon Golf &nbsp\;who will manage our contests\, provide&nbsp\;prizes\, and handle registration\, online scoring\, and pairing!&nbsp\;The event will be a four-person scramble.</span></p>\n\n<p><span style="font-size:14px">The putting contest starts at 10 and we will have a shotgun start at 11 am.&nbsp\;The outing is limited to 72 golfers\, so we encourage you to REGISTER EARLY!</span></p>\n\n<p><span style="font-size:14px">Please go to&nbsp\;<strong><a href="https://charitygolftoday.com/register?e=3708&amp\;ce=5e39b0" style="box-sizing: inherit\; text-decoration: none\; color: rgb(0\, 192\, 198)\; -webkit-font-smoothing: antialiased\; text-rendering: optimizeLegibility\; text-shadow: rgba(0\, 0\, 0\, 0.004) 1px 1px 1px\;"><span style="color:#0000CD">THIS PAGE</span></a></strong>&nbsp\;for registration and information.</span></p>\n
LOCATION:Fox Lake Country Club in Fox Lake
UID:e.2066.4592
SEQUENCE:3
DTSTAMP:20260422T121225Z
URL:https://dev.chainolakeschamber.com/events/details/fourth-annual-river-ridge-church-golf-outing-4592
END:VEVENT

END:VCALENDAR
