BEGIN:VCALENDAR
VERSION:2.0
PRODID:-//ChamberMaster//Event Calendar 2.0//EN
METHOD:PUBLISH
X-PUBLISHED-TTL:P3D
REFRESH-INTERVAL:P3D
CALSCALE:GREGORIAN
BEGIN:VEVENT
DTSTART:20211028T150000Z
DTEND:20211028T161500Z
X-MICROSOFT-CDO-ALLDAYEVENT:FALSE
SUMMARY:FOREIGN EXCHANGE AND CURRENCY RISK MANAGEMENT
DESCRIPTION:This no-cost\, virtual webinar will cover an introduction to the foreign exchange market\, how to read and understand the exchange rates\, and basic tools for currency risk management. We will also go through the pros and cons of dealing in other currencies and the steps of creating an invoice in foreign currency.
X-ALT-DESC;FMTTYPE=text/html:This no-cost\, virtual webinar will cover an introduction to the foreign exchange market\, how to read and understand the exchange rates\, and basic tools for currency risk management. We will also go through the pros and cons of dealing in other currencies and the steps of creating an invoice in foreign currency.
LOCATION:Online via Zoom
UID:e.2066.4148
SEQUENCE:3
DTSTAMP:20260423T065340Z
URL:https://dev.chainolakeschamber.com/events/details/foreign-exchange-and-currency-risk-management-4148
END:VEVENT

END:VCALENDAR
