BEGIN:VCALENDAR
VERSION:2.0
PRODID:-//ChamberMaster//Event Calendar 2.0//EN
METHOD:PUBLISH
X-PUBLISHED-TTL:P3D
REFRESH-INTERVAL:P3D
CALSCALE:GREGORIAN
BEGIN:VEVENT
DTSTART:20210412T220000Z
DTEND:20210413T000000Z
X-MICROSOFT-CDO-ALLDAYEVENT:FALSE
SUMMARY:Food Truck Your Sister's Tomato at Volo Village Hall
DESCRIPTION:
X-ALT-DESC;FMTTYPE=text/html:
LOCATION:
UID:e.2066.3909
SEQUENCE:3
DTSTAMP:20260423T160623Z
URL:https://dev.chainolakeschamber.com/events/details/food-truck-your-sister-s-tomato-at-volo-village-hall-3909
END:VEVENT

END:VCALENDAR
