BEGIN:VCALENDAR
VERSION:2.0
PRODID:-//ChamberMaster//Event Calendar 2.0//EN
METHOD:PUBLISH
X-PUBLISHED-TTL:P3D
REFRESH-INTERVAL:P3D
CALSCALE:GREGORIAN
BEGIN:VEVENT
DTSTART:20210410T160000Z
DTEND:20210410T200000Z
X-MICROSOFT-CDO-ALLDAYEVENT:FALSE
SUMMARY:Food Truck Serna's Grill at Volo Village Hall
DESCRIPTION:
X-ALT-DESC;FMTTYPE=text/html:
LOCATION:
UID:e.2066.3907
SEQUENCE:3
DTSTAMP:20260423T160607Z
URL:https://dev.chainolakeschamber.com/events/details/food-truck-serna-s-grill-at-volo-village-hall-03-19-2021-3907
END:VEVENT

END:VCALENDAR
