BEGIN:VCALENDAR
VERSION:2.0
PRODID:-//ChamberMaster//Event Calendar 2.0//EN
METHOD:PUBLISH
X-PUBLISHED-TTL:P3D
REFRESH-INTERVAL:P3D
CALSCALE:GREGORIAN
BEGIN:VEVENT
DTSTART:20210319T220000Z
DTEND:20210320T010000Z
X-MICROSOFT-CDO-ALLDAYEVENT:FALSE
SUMMARY:Food Truck Serna's Grill at Volo Village Hall
DESCRIPTION:
X-ALT-DESC;FMTTYPE=text/html:
LOCATION:Volo Village Hall 500 Fish Lake Rd\, Volo IL
UID:e.2066.3891
SEQUENCE:3
DTSTAMP:20260423T174824Z
URL:https://dev.chainolakeschamber.com/events/details/food-truck-serna-s-grill-at-volo-village-hall-03-19-2021-3891
END:VEVENT

END:VCALENDAR
