BEGIN:VCALENDAR
VERSION:2.0
PRODID:-//ChamberMaster//Event Calendar 2.0//EN
METHOD:PUBLISH
X-PUBLISHED-TTL:P3D
REFRESH-INTERVAL:P3D
CALSCALE:GREGORIAN
BEGIN:VEVENT
DTSTART:20210318T210000Z
DTEND:20210319T010000Z
X-MICROSOFT-CDO-ALLDAYEVENT:FALSE
SUMMARY:Food Truck Pierogi Rig at Volo Village Hall
DESCRIPTION:
X-ALT-DESC;FMTTYPE=text/html:
LOCATION:Volo Village Hall 500 Fish Lake Rd\, Volo IL
UID:e.2066.3888
SEQUENCE:3
DTSTAMP:20260423T193830Z
URL:https://dev.chainolakeschamber.com/events/details/food-truck-pierogi-rig-at-volo-village-hall-3888
END:VEVENT

END:VCALENDAR
