BEGIN:VCALENDAR
VERSION:2.0
PRODID:-//ChamberMaster//Event Calendar 2.0//EN
METHOD:PUBLISH
X-PUBLISHED-TTL:P3D
REFRESH-INTERVAL:P3D
CALSCALE:GREGORIAN
BEGIN:VEVENT
DTSTART:20210415T220000Z
DTEND:20210416T003000Z
X-MICROSOFT-CDO-ALLDAYEVENT:FALSE
SUMMARY:Food Truck Lucky Burger and Grill at Volo Village Hall
DESCRIPTION:
X-ALT-DESC;FMTTYPE=text/html:
LOCATION:
UID:e.2066.3913
SEQUENCE:3
DTSTAMP:20260423T160700Z
URL:https://dev.chainolakeschamber.com/events/details/food-truck-lucky-burger-and-grill-at-volo-village-hall-3913
END:VEVENT

END:VCALENDAR
