BEGIN:VCALENDAR
VERSION:2.0
PRODID:-//ChamberMaster//Event Calendar 2.0//EN
METHOD:PUBLISH
X-PUBLISHED-TTL:P3D
REFRESH-INTERVAL:P3D
CALSCALE:GREGORIAN
BEGIN:VEVENT
DTSTART:20230526T210000Z
DTEND:20230527T020000Z
X-MICROSOFT-CDO-ALLDAYEVENT:FALSE
SUMMARY:Food Truck Festival
DESCRIPTION:The Lake County Food Truck Festival is coming to the Lake County Fairgrounds! On Friday\, May 26\, from 4pm to 9pm\, join us for a food-filled extravaganza that is sure to satisfy your taste buds.\n\nThe festival will feature a wide variety of food trucks serving up everything from savory meals\, to sweet treats.\n\nAdmission is just $1 per person\, and there will be plenty of live music and entertainment to keep the whole family entertained. Bring your appetite & a few friends to this can't-miss event!\n\nMark your calendars and come hungry to the Lake County Food Truck Festival!\n\nMore information can be found at www.LCFAIR.com\n\n2023 food trucks include:\n\n-CreamCrunchNMore @Creamcrunchnmore\n\n-Da Local Boy\n\n-Fork N Fry Mobile Poutinerie @Forknfrypoutine\n\n-Grumpy Gaucho @grumpygaucho\n\n-The Happy Lobster @happylobstertruck\n\n-Happy's Badass Bavarians @badazzbar\n\n-Hello Boba\n\n-Kona Ice of McHenry @KonaIceofMcHenryCounty\n\n-My Mamas Mini Donuts @mymamasmini\n\n-Mario's @MariosCart17\n\n-My Funnel Truck @MyFunnelTruck\n\n-Smokie Boyz BBQ @SMOKIEBOYZBBQ\n\n-Your Sister's Tomato @yoursisterstomato
X-ALT-DESC;FMTTYPE=text/html:<div class="x11i5rnm xat24cr x1mh8g0r x1vvkbs xdj266r" style="margin: 0px\; overflow-wrap: break-word\; font-family: &quot\;Segoe UI Historic&quot\;\, &quot\;Segoe UI&quot\;\, Helvetica\, Arial\, sans-serif\; color: rgb(5\, 5\, 5)\; font-size: 15px\;">The Lake County Food Truck Festival is coming to the Lake County Fairgrounds! On Friday\, May 26\, from 4pm to 9pm\, join us for a food-filled extravaganza that is sure to satisfy your taste buds.</div>\n\n<div class="x11i5rnm xat24cr x1mh8g0r x1vvkbs xtlvy1s" style="margin: 0.5em 0px 0px\; overflow-wrap: break-word\; font-family: &quot\;Segoe UI Historic&quot\;\, &quot\;Segoe UI&quot\;\, Helvetica\, Arial\, sans-serif\; color: rgb(5\, 5\, 5)\; font-size: 15px\;">The festival will feature a wide variety of food trucks serving up everything from savory meals\, to sweet treats.</div>\n\n<div class="x11i5rnm xat24cr x1mh8g0r x1vvkbs xtlvy1s" style="margin: 0.5em 0px 0px\; overflow-wrap: break-word\; font-family: &quot\;Segoe UI Historic&quot\;\, &quot\;Segoe UI&quot\;\, Helvetica\, Arial\, sans-serif\; color: rgb(5\, 5\, 5)\; font-size: 15px\;">Admission is just $1 per person\, and there will be plenty of live music and entertainment to keep the whole family entertained. Bring your appetite &amp\; a few friends to this can&rsquo\;t-miss event!</div>\n\n<div class="x11i5rnm xat24cr x1mh8g0r x1vvkbs xtlvy1s" style="margin: 0.5em 0px 0px\; overflow-wrap: break-word\; font-family: &quot\;Segoe UI Historic&quot\;\, &quot\;Segoe UI&quot\;\, Helvetica\, Arial\, sans-serif\; color: rgb(5\, 5\, 5)\; font-size: 15px\;">Mark your calendars and come hungry to the Lake County Food Truck Festival!</div>\n\n<div class="x11i5rnm xat24cr x1mh8g0r x1vvkbs xtlvy1s" style="margin: 0.5em 0px 0px\; overflow-wrap: break-word\; font-family: &quot\;Segoe UI Historic&quot\;\, &quot\;Segoe UI&quot\;\, Helvetica\, Arial\, sans-serif\; color: rgb(5\, 5\, 5)\; font-size: 15px\;">More information can be found at&nbsp\;<a class="x1i10hfl xjbqb8w x6umtig x1b1mbwd xaqea5y xav7gou x9f619 x1ypdohk xt0psk2 xe8uvvx xdj266r x11i5rnm xat24cr x1mh8g0r xexx8yu x4uap5 x18d9i69 xkhd6sd x16tdsg8 x1hl2dhg xggy1nq x1a2a7pz xt0b8zv x1fey0fg" href="http://www.lcfair.com/?fbclid=IwAR2LYmOF8YduaSq-hWJxsjNbKvn9he9w2upr5An7SKo7kU2MzfM-3pJZl-8" rel="nofollow noopener" role="link" style="color: var(--blue-link)\; cursor: pointer\; text-decoration-line: none\; margin: 0px\; text-align: inherit\; padding: 0px\; outline: none\; border-width: 0px\; border-style: initial\; border-color: initial\; -webkit-tap-highlight-color: transparent\; box-sizing: border-box\; list-style: none\; touch-action: manipulation\; background-color: transparent\; display: inline\; font-family: inherit\;" tabindex="0" target="_blank">www.LCFAIR.com</a></div>\n\n<div class="x11i5rnm xat24cr x1mh8g0r x1vvkbs xtlvy1s" style="margin: 0.5em 0px 0px\; overflow-wrap: break-word\; font-family: &quot\;Segoe UI Historic&quot\;\, &quot\;Segoe UI&quot\;\, Helvetica\, Arial\, sans-serif\; color: rgb(5\, 5\, 5)\; font-size: 15px\;">2023 food trucks include:<br />\n-CreamCrunchNMore @Creamcrunchnmore<br />\n-Da Local Boy<br />\n-Fork N Fry Mobile Poutinerie @Forknfrypoutine<br />\n-Grumpy Gaucho @grumpygaucho<br />\n-The Happy Lobster @happylobstertruck<br />\n-Happy&#39\;s Badass Bavarians @badazzbar<br />\n-Hello Boba<br />\n-Kona Ice of McHenry @KonaIceofMcHenryCounty<br />\n-My Mamas Mini Donuts @mymamasmini<br />\n-Mario&#39\;s @MariosCart17<br />\n-My Funnel Truck @MyFunnelTruck<br />\n-Smokie Boyz BBQ @SMOKIEBOYZBBQ<br />\n-Your Sister&#39\;s Tomato @yoursisterstomato</div>\n
LOCATION:Lake County Fairgrounds and Event Center 1060 E. Peterson Road Grayslake UL
UID:e.2066.5090
SEQUENCE:3
DTSTAMP:20260419T185643Z
URL:https://dev.chainolakeschamber.com/events/details/food-truck-festival-5090
END:VEVENT

END:VCALENDAR
