BEGIN:VCALENDAR
VERSION:2.0
PRODID:-//ChamberMaster//Event Calendar 2.0//EN
METHOD:PUBLISH
X-PUBLISHED-TTL:P3D
REFRESH-INTERVAL:P3D
CALSCALE:GREGORIAN
BEGIN:VEVENT
DTSTART:20180908T210000Z
DTEND:20180909T020000Z
X-MICROSOFT-CDO-ALLDAYEVENT:FALSE
SUMMARY:Food Truck Fest - Truck Off
DESCRIPTION:TRUCK OFF
X-ALT-DESC;FMTTYPE=text/html:TRUCK OFF<br />\n&nbsp\;
LOCATION:TRUCK OFF\, the epic Chicagoland food truck festival\, rolls into the McHenry County Fairgrounds in Woodstock\, 4 p.m.-9 p.m.\, Saturday\, Sept. 8 with a huge variety of 30+ food trucks\, live music\, vendor fair and more! Join the official facebook Truck Off event page for the latest news. Questions? Contact info@mchenrycountyliving.com or 815-900-8522. Thank you & TRUCK ON! Truck Off Team
UID:e.2066.1191
SEQUENCE:3
DTSTAMP:20260425T192822Z
URL:https://dev.chainolakeschamber.com/events/details/food-truck-fest-truck-off-1191
END:VEVENT

END:VCALENDAR
