BEGIN:VCALENDAR
VERSION:2.0
PRODID:-//ChamberMaster//Event Calendar 2.0//EN
METHOD:PUBLISH
X-PUBLISHED-TTL:P3D
REFRESH-INTERVAL:P3D
CALSCALE:GREGORIAN
BEGIN:VEVENT
DTSTART:20210407T210000Z
DTEND:20210408T000000Z
X-MICROSOFT-CDO-ALLDAYEVENT:FALSE
SUMMARY:Food Truck Cream Crunch N More at Volo Village Hall
DESCRIPTION:
X-ALT-DESC;FMTTYPE=text/html:
LOCATION:
UID:e.2066.3904
SEQUENCE:3
DTSTAMP:20260423T174824Z
URL:https://dev.chainolakeschamber.com/events/details/food-truck-cream-crunch-n-more-at-volo-village-hall-3904
END:VEVENT

END:VCALENDAR
