BEGIN:VCALENDAR
VERSION:2.0
PRODID:-//ChamberMaster//Event Calendar 2.0//EN
METHOD:PUBLISH
X-PUBLISHED-TTL:P3D
REFRESH-INTERVAL:P3D
CALSCALE:GREGORIAN
BEGIN:VEVENT
DTSTART:20210409T210000Z
DTEND:20210410T010000Z
X-MICROSOFT-CDO-ALLDAYEVENT:FALSE
SUMMARY:Food Truck Big Mouth Steak & Subs at Volo Village Hall
DESCRIPTION:
X-ALT-DESC;FMTTYPE=text/html:
LOCATION:
UID:e.2066.3905
SEQUENCE:3
DTSTAMP:20260423T160607Z
URL:https://dev.chainolakeschamber.com/events/details/food-truck-big-mouth-steak-subs-at-volo-village-hall-3905
END:VEVENT

END:VCALENDAR
