BEGIN:VCALENDAR
VERSION:2.0
PRODID:-//ChamberMaster//Event Calendar 2.0//EN
METHOD:PUBLISH
X-PUBLISHED-TTL:P3D
REFRESH-INTERVAL:P3D
CALSCALE:GREGORIAN
BEGIN:VEVENT
DTSTART:20221011T150000Z
DTEND:20221011T160000Z
X-MICROSOFT-CDO-ALLDAYEVENT:FALSE
SUMMARY:Five Money Questions for Women
DESCRIPTION:An Informational Webinar Presentation\n\nPresented by Chris Burbidge\, Financial Advisor\, Edward Jones  \n\nWomen face unique financial circumstances\, so a strong financial strategy is vital. Here's an opportunity to ensure your financial strategy fits your lifestyle and needs by exploring five money questions critical for women.
X-ALT-DESC;FMTTYPE=text/html:&nbsp\;<span style="color:#393339"><span style="font-family:arial narrow\,sans-serif"><span style="font-size:16.0pt">An Informational Webinar Presentation</span></span></span><br />\n<em><span style="color:#393339"><span style="font-family:arial narrow\,sans-serif"><span style="font-size:18.0pt">Presented by </span></span></span></em><strong><span style="color:#393339"><span style="font-family:arial narrow\,sans-serif"><span style="font-size:18.0pt">Chris Burbidge\, Financial Advisor\, Edward Jones <sup>&reg\;</sup></span></span></span></strong><br />\n<span style="color:#1A1A1A"><span style="font-family:arial\,sans-serif"><span style="font-size:16.0pt">Women face unique financial circumstances\, so a strong financial strategy is vital. Here&#39\;s an opportunity to ensure your financial strategy fits your lifestyle and needs by exploring five money questions critical for women.</span></span></span>
LOCATION:Zoom Webinar: https://us02web.zoom.us/meeting/register/tZAtd-uhrD4qHdTdYp4nmrB_4vJbNlEmGX3a Register Here: Meeting Registration - Zoom
UID:e.2066.4574
SEQUENCE:3
DTSTAMP:20260422T111422Z
URL:https://dev.chainolakeschamber.com/events/details/five-money-questions-for-women-4574
END:VEVENT

END:VCALENDAR
