BEGIN:VCALENDAR
VERSION:2.0
PRODID:-//ChamberMaster//Event Calendar 2.0//EN
METHOD:PUBLISH
X-PUBLISHED-TTL:P3D
REFRESH-INTERVAL:P3D
CALSCALE:GREGORIAN
BEGIN:VEVENT
DTSTART:20200428T230000Z
DTEND:20200429T003000Z
X-MICROSOFT-CDO-ALLDAYEVENT:FALSE
SUMMARY:Financing Options to Grow a Business
DESCRIPTION:You need money to make money. Savvy entrepreneurs know that growing businesses often requires additional funding. They also know what sources they can look to for growth capital. During this workshop\, you will review traditional and non-traditional financing solutions and identify pros and cons for each and you will gain a greater understanding of ways to finance current and future business growth needs. Workshop topics include knowing what to ask for\, friends and family financing\, non-traditional financing\, equipment leasing and bank financing and SBA loans.
X-ALT-DESC;FMTTYPE=text/html:You need money to make money. Savvy entrepreneurs know that growing businesses often requires additional funding. They also know what sources they can look to for growth capital. During this workshop\, you will review traditional and non-traditional financing solutions and identify pros and cons for each and you will gain a greater understanding of ways to finance current and future business growth needs. Workshop topics include knowing what to ask for\, friends and family financing\, non-traditional financing\, equipment leasing and bank financing and SBA loans.
LOCATION:College of Lake County Grayslake Campus 19351 W Washington St. Grayslake\, IL 60030
UID:e.2066.3167
SEQUENCE:3
DTSTAMP:20260424T142743Z
URL:https://dev.chainolakeschamber.com/events/details/financing-options-to-grow-a-business-04-28-2020-3167
END:VEVENT

END:VCALENDAR
