BEGIN:VCALENDAR
VERSION:2.0
PRODID:-//ChamberMaster//Event Calendar 2.0//EN
METHOD:PUBLISH
X-PUBLISHED-TTL:P3D
REFRESH-INTERVAL:P3D
CALSCALE:GREGORIAN
BEGIN:VEVENT
DTSTART:20210429T140000Z
DTEND:20210429T153000Z
X-MICROSOFT-CDO-ALLDAYEVENT:FALSE
SUMMARY:Financing a Business Start Up
DESCRIPTION:It takes money to make money! Expect to have to find and spend some money to get things started with your business. This webinar will teach you the costs involved in preparing to open a business and may include things like market research\, the mileage costs involved in researching a location\, advertising\, training\, wages\, and any fees paid to professionals or consultants such as a lawyer or accountant.
X-ALT-DESC;FMTTYPE=text/html:It takes money to make money! Expect to have to find and spend some money to get things started with your business. This webinar will teach you the costs involved in preparing to open a business and may include things like market research\, the mileage costs involved in researching a location\, advertising\, training\, wages\, and any fees paid to professionals or consultants such as a lawyer or accountant.
LOCATION:Live Zoom
UID:e.2066.3925
SEQUENCE:3
DTSTAMP:20260423T160047Z
URL:https://dev.chainolakeschamber.com/events/details/financing-a-business-start-up-3925
END:VEVENT

END:VCALENDAR
