BEGIN:VCALENDAR
VERSION:2.0
PRODID:-//ChamberMaster//Event Calendar 2.0//EN
METHOD:PUBLISH
X-PUBLISHED-TTL:P3D
REFRESH-INTERVAL:P3D
CALSCALE:GREGORIAN
BEGIN:VEVENT
DTSTART:20200423T170000Z
DTEND:20200423T180000Z
X-MICROSOFT-CDO-ALLDAYEVENT:FALSE
SUMMARY:Financial questions pertaining to Covid19\, retirement\, layoffs?
DESCRIPTION:
X-ALT-DESC;FMTTYPE=text/html:<br />\n&nbsp\;
LOCATION:Zoom meeting\, must preregister! Email info@flrsgac.com
UID:e.2066.3390
SEQUENCE:3
DTSTAMP:20260424T142921Z
URL:https://dev.chainolakeschamber.com/events/details/financial-questions-pertaining-to-covid19-retirement-layoffs-3390
END:VEVENT

END:VCALENDAR
