BEGIN:VCALENDAR
VERSION:2.0
PRODID:-//ChamberMaster//Event Calendar 2.0//EN
METHOD:PUBLISH
X-PUBLISHED-TTL:P3D
REFRESH-INTERVAL:P3D
CALSCALE:GREGORIAN
BEGIN:VEVENT
DTSTART:20200423T170000Z
DTEND:20200423T180000Z
X-MICROSOFT-CDO-ALLDAYEVENT:FALSE
SUMMARY:Financial Questions answered by Jeff Batt CFP
DESCRIPTION:Some topics to be covered:\n	\n		How will this crisis impact my retirement savings?\n		What happens to my retirement plan if I am laid off?\n		What are some financial steps I can take if my income has been reduced as a result of this crisis?
X-ALT-DESC;FMTTYPE=text/html:<ul>\n	<li><span style="font-family:times new roman\,serif\;"><span style="font-size:12.0pt\;">Some topics to be covered:</span></span>\n	<ul style="list-style-type:circle\;">\n		<li><span style="font-family:times new roman\,serif\;"><span style="font-size:12.0pt\;">How will this crisis impact my retirement savings?</span></span></li>\n		<li><span style="font-family:times new roman\,serif\;"><span style="font-size:12.0pt\;">What happens to my retirement plan if I am laid off?</span></span></li>\n		<li><span style="font-family:times new roman\,serif\;"><span style="font-size:12.0pt\;">What are some financial steps I can take if my income has been reduced as a result of this crisis?</span></span></li>\n	</ul>\n	</li>\n</ul>\n
LOCATION:zoom call\, must register prior to event contact the chamber for code
UID:e.2066.3391
SEQUENCE:3
DTSTAMP:20260424T142749Z
URL:https://dev.chainolakeschamber.com/events/details/financial-questions-answered-by-jeff-batt-cfp-3391
END:VEVENT

END:VCALENDAR
