BEGIN:VCALENDAR
VERSION:2.0
PRODID:-//ChamberMaster//Event Calendar 2.0//EN
METHOD:PUBLISH
X-PUBLISHED-TTL:P3D
REFRESH-INTERVAL:P3D
CALSCALE:GREGORIAN
BEGIN:VEVENT
DTSTART:20230328T150000Z
DTEND:20230328T160000Z
X-MICROSOFT-CDO-ALLDAYEVENT:FALSE
SUMMARY:FINANCE FRENZY
DESCRIPTION:Money personalities and lack of priority focus can interfere with proper planning. In this presentation\, you will learn\n\nhow to manage different views of finances and how to plan for essential senior priorities. Presented by Caren Naidoff & Alan Press of Shire Law Group
X-ALT-DESC;FMTTYPE=text/html:Money personalities and lack of priority focus can interfere with proper planning. In this presentation\, you will learn<br />\nhow to manage different views of finances and how to plan for essential senior priorities. Presented by Caren Naidoff &amp\; Alan Press of Shire Law Group
LOCATION:Zoom
UID:e.2066.4953
SEQUENCE:3
DTSTAMP:20260419T222956Z
URL:https://dev.chainolakeschamber.com/events/details/finance-frenzy-4953
END:VEVENT

END:VCALENDAR
